BEGIN:VCALENDAR
VERSION:2.0
CALSCALE:GREGORIAN
PRODID:-//Diputació de Barcelona//DibaCMS//EN
BEGIN:VEVENT
UID:20865
DTSTAMP:20260420T103819
DTSTART:20241204T000000
DTEND:20261204T000000
SUMMARY:Ja has trobat els tions, les tiones i els tionets de Sentmenat?
LOCATION:
METHOD:PUBLISH
X-WR-CALNAME:sentmenat@sentmenat.cat
X-WR-TIMEZONE:Europe/Madrid
DESCRIPTION:Al desembre arriben els tionets, tions i les tiones a Sentmenat.

URI:https://www.sentmenat.cat/actualitat/noticies/20865-ja-has-trobat-els-tions-les-tiones-i-els-tionets-de-sentmenat.html
CLASS:PUBLIC
END:VEVENT
END:VCALENDAR
