BEGIN:VCALENDAR
VERSION:2.0
CALSCALE:GREGORIAN
PRODID:-//Diputació de Barcelona//DibaCMS//EN
BEGIN:VEVENT
UID:20515
DTSTAMP:20260421T134909
DTSTART:20240305T000000
DTEND:20270318T000000
SUMMARY:Taller de teatre per a majors de 65 anys!
LOCATION:
METHOD:PUBLISH
X-WR-CALNAME:sentmenat@sentmenat.cat
X-WR-TIMEZONE:Europe/Madrid
DESCRIPTION:Iniciativa de la regidoria de Gent Gran amb la col·laboració del Coro de Sentmenat.

URI:https://www.sentmenat.cat/actualitat/noticies/taller-de-teatre-per-a-majors-de-65-anys.html
CLASS:PUBLIC
END:VEVENT
END:VCALENDAR
