BEGIN:VCALENDAR
VERSION:2.0
CALSCALE:GREGORIAN
PRODID:-//Diputació de Barcelona//DibaCMS//EN
BEGIN:VEVENT
UID:20380
DTSTAMP:20260420T065535
DTSTART:20231221T000000
DTEND:20241219T000000
SUMMARY:Es presenta el nou centre d'interès de jocs de taula a la Biblioteca
LOCATION:
METHOD:PUBLISH
X-WR-CALNAME:sentmenat@sentmenat.cat
X-WR-TIMEZONE:Europe/Madrid
DESCRIPTION:El passat divendres 15 de desembre es va donar el tret de sortida al nou projecte de la biblioteca, que inclou un centre d'interès amb servei de préstec de jocs de taula.

URI:https://www.sentmenat.cat/actualitat/noticies/es-presenta-el-nou-centre-dinteres-de-jocs-de-taula-a-la-biblioteca.html
CLASS:PUBLIC
END:VEVENT
END:VCALENDAR
