BEGIN:VCALENDAR
VERSION:2.0
CALSCALE:GREGORIAN
PRODID:-//Diputació de Barcelona//DibaCMS//EN
BEGIN:VEVENT
UID:20378
DTSTAMP:20260420T065132
DTSTART:20231219T000000
DTEND:20241218T000000
SUMMARY:Sentmenat present al Cercle de Comparació Intermunicipal de les Oficines Municipals d'Informació al Consumidor
LOCATION:
METHOD:PUBLISH
X-WR-CALNAME:sentmenat@sentmenat.cat
X-WR-TIMEZONE:Europe/Madrid
DESCRIPTION:Es disparen les consultes sobre subministraments bàsics a les Oficines Municipals d’Informació al Consumidor.

URI:https://www.sentmenat.cat/actualitat/noticies/sentmenat-present-al-cercle-de-comparacio-intermunicipal-de-les-oficines-municipals-dinformacio-al-consumidor.html
CLASS:PUBLIC
END:VEVENT
END:VCALENDAR
