BEGIN:VCALENDAR
VERSION:2.0
CALSCALE:GREGORIAN
PRODID:-//Diputació de Barcelona//DibaCMS//EN
BEGIN:VEVENT
UID:20373
DTSTAMP:20260424T012545
DTSTART:20231219T000000
DTEND:20261225T000000
SUMMARY:Segona sessió de la formació sobre alfabetització digital
LOCATION:
METHOD:PUBLISH
X-WR-CALNAME:sentmenat@sentmenat.cat
X-WR-TIMEZONE:Europe/Madrid
DESCRIPTION:Es durà a terme el 21 de desembre, al matí.

URI:https://www.sentmenat.cat/actualitat/noticies/segona-sessio-de-la-formacio-sobre-alfabetitzacio-digital.html
CLASS:PUBLIC
END:VEVENT
END:VCALENDAR
