BEGIN:VCALENDAR
VERSION:2.0
CALSCALE:GREGORIAN
PRODID:-//Diputació de Barcelona//DibaCMS//EN
BEGIN:VEVENT
UID:20371
DTSTAMP:20260420T064647
DTSTART:20231218T000000
DTEND:20241217T000000
SUMMARY:Judo Sentmenat aconsegueix tres bronzes al Rànquing Català
LOCATION:
METHOD:PUBLISH
X-WR-CALNAME:sentmenat@sentmenat.cat
X-WR-TIMEZONE:Europe/Madrid
DESCRIPTION:Dos medalles en categoria -73 kg i una altra a -52 kg.

URI:https://www.sentmenat.cat/actualitat/noticies/judo-sentmenat-aconsegueix-tres-bronzes-al-ranquing-catala.html
CLASS:PUBLIC
END:VEVENT
END:VCALENDAR
