BEGIN:VCALENDAR
VERSION:2.0
CALSCALE:GREGORIAN
PRODID:-//Diputació de Barcelona//DibaCMS//EN
BEGIN:VEVENT
UID:20361
DTSTAMP:20260420T083844
DTSTART:20231205T093000
DTEND:20240615T000000
SUMMARY:Viu el nadal a Sentmenat
LOCATION:
METHOD:PUBLISH
X-WR-CALNAME:sentmenat@sentmenat.cat
X-WR-TIMEZONE:Europe/Madrid
DESCRIPTION:Activitats lúdiques com la fira de nadal, contes, tallers, cinema, tradicions i la cultura de les festes... Aquestes són algunes de les propostes que podeu trobar a Sentmenat durant aquest Nadal tan especial.

URI:https://www.sentmenat.cat/actualitat/noticies/20361-viu-el-nadal-a-sentmenat.html
CLASS:PUBLIC
END:VEVENT
END:VCALENDAR
