BEGIN:VCALENDAR
VERSION:2.0
CALSCALE:GREGORIAN
PRODID:-//Diputació de Barcelona//DibaCMS//EN
BEGIN:VEVENT
UID:20360
DTSTAMP:20260420T064819
DTSTART:20231219T000000
DTEND:20241130T000000
SUMMARY:Penjar cartells a Sentmenat?
LOCATION:
METHOD:PUBLISH
X-WR-CALNAME:sentmenat@sentmenat.cat
X-WR-TIMEZONE:Europe/Madrid
DESCRIPTION:Existeix una normativa per regular la penja de cartells a Sentmenat.

URI:https://www.sentmenat.cat/actualitat/noticies/penjar-cartells-a-sentmenat.html
CLASS:PUBLIC
END:VEVENT
END:VCALENDAR
