BEGIN:VCALENDAR
VERSION:2.0
CALSCALE:GREGORIAN
PRODID:-//Diputació de Barcelona//DibaCMS//EN
BEGIN:VEVENT
UID:19950
DTSTAMP:20260421T104552
DTSTART:20230322T183000
DTEND:20230322T200000
SUMMARY:Comissió Informativa
LOCATION:
METHOD:PUBLISH
X-WR-CALNAME:sentmenat@sentmenat.cat
X-WR-TIMEZONE:Europe/Madrid
DESCRIPTION:
URI:https://www.sentmenat.cat/1-ajuntament/alcaldessa/agenda-de-lalcaldessa/19950-comissio-informativa.html
CLASS:PUBLIC
END:VEVENT
END:VCALENDAR
