BEGIN:VCALENDAR
VERSION:2.0
CALSCALE:GREGORIAN
PRODID:-//Diputació de Barcelona//DibaCMS//EN
BEGIN:VEVENT
UID:19792
DTSTAMP:20260420T102101
DTSTART:20231220T120000
DTEND:20240919T000000
SUMMARY:La Dona dels Nassos arriba a Sentmenat
LOCATION:
METHOD:PUBLISH
X-WR-CALNAME:sentmenat@sentmenat.cat
X-WR-TIMEZONE:Europe/Madrid
DESCRIPTION:El proper diumenge 31 de desembre, com diu la tradició, a Sentmenat arriba la Dona dels Nassos, que té tants nassos com dies li queden a l'any. 

URI:https://www.sentmenat.cat/actualitat/noticies/19792-la-dona-dels-nassos-arriba-a-sentmenat.html
CLASS:PUBLIC
END:VEVENT
END:VCALENDAR
