BEGIN:VCALENDAR
VERSION:2.0
CALSCALE:GREGORIAN
PRODID:-//Diputació de Barcelona//DibaCMS//EN
BEGIN:VEVENT
UID:19670
DTSTAMP:20260425T015407
DTSTART:20221028T000000
DTEND:20230401T000000
SUMMARY:Consulta els acords del passat ple ordinari del 27 d'octubre
LOCATION:
METHOD:PUBLISH
X-WR-CALNAME:sentmenat@sentmenat.cat
X-WR-TIMEZONE:Europe/Madrid
DESCRIPTION:Ahir dijous, 27 d'octubre, el Ple va celebrar una nova sessió ordinària que pots recuperar en aquest ENLLAÇ

URI:https://www.sentmenat.cat/1-ajuntament/organs-de-govern/el-ple/resultats-dels-plens/consulta-els-acords-del-passat-ple-ordinari-del-27-doctubre.html
CLASS:PUBLIC
END:VEVENT
END:VCALENDAR
