BEGIN:VCALENDAR
VERSION:2.0
CALSCALE:GREGORIAN
PRODID:-//Diputació de Barcelona//DibaCMS//EN
BEGIN:VEVENT
UID:19488
DTSTAMP:20260420T121518
DTSTART:20220628T000000
DTEND:20230628T000000
SUMMARY:Sentmenat reivindica el 28J, Dia Internacional de l'Orgull LGTBIQ+
LOCATION:
METHOD:PUBLISH
X-WR-CALNAME:sentmenat@sentmenat.cat
X-WR-TIMEZONE:Europe/Madrid
DESCRIPTION:Avui dimarts es desplegarà la pancarta de l'orgull i, a les sis de la tarda, es llegirà el manifest de l'orgull a la plaça de la Vila.

URI:https://www.sentmenat.cat/actualitat/noticies/sentmenat-reivindica-el-28j-dia-internacional-de-lorgull-lgtbiq.html
CLASS:PUBLIC
END:VEVENT
END:VCALENDAR
