BEGIN:VCALENDAR
VERSION:2.0
CALSCALE:GREGORIAN
PRODID:-//Diputació de Barcelona//DibaCMS//EN
BEGIN:VEVENT
UID:19440
DTSTAMP:20260421T083805
DTSTART:20220512T000000
DTEND:20230512T000000
SUMMARY:Dilluns 16 s’obre la inscripció al Casal d'Estiu del CEM de Sentmenat
LOCATION:
METHOD:PUBLISH
X-WR-CALNAME:sentmenat@sentmenat.cat
X-WR-TIMEZONE:Europe/Madrid
DESCRIPTION:A partir del pròxim dilluns 16 de maig ja es podran fer les inscripcions per infants i joves de 3 a 15 anys (2018-2006) que vulguin participar en el Casal D’estiu d’Ègora al CEM de Sentmenat del 27 de juny al 29 de juliol i del 29 d’agost al 2 de setembre. Aquest casal d'estiu està subvencionat per l'Ajuntament de Sentmenat. 

URI:https://www.sentmenat.cat/actualitat/noticies/dilluns-16-sobre-la-inscripcio-al-casal-destiu-del-cem-de-sentmenat.html
CLASS:PUBLIC
END:VEVENT
END:VCALENDAR
