BEGIN:VCALENDAR
VERSION:2.0
CALSCALE:GREGORIAN
PRODID:-//Diputació de Barcelona//DibaCMS//EN
BEGIN:VEVENT
UID:19346
DTSTAMP:20260421T121548
DTSTART:20220323T180000
DTEND:20220323T183000
SUMMARY:Junta de Govern Local
LOCATION:
METHOD:PUBLISH
X-WR-CALNAME:sentmenat@sentmenat.cat
X-WR-TIMEZONE:Europe/Madrid
DESCRIPTION:
URI:https://www.sentmenat.cat/1-ajuntament/alcaldessa/agenda-de-lalcaldessa/19346-junta-de-govern-local.html
CLASS:PUBLIC
END:VEVENT
END:VCALENDAR
