BEGIN:VCALENDAR
VERSION:2.0
CALSCALE:GREGORIAN
PRODID:-//Diputació de Barcelona//DibaCMS//EN
BEGIN:VEVENT
UID:19242
DTSTAMP:20260422T121500
DTSTART:20220222T000000
DTEND:20230222T000000
SUMMARY:Ja tens disponible tota la informació del porta a porta!
LOCATION:
METHOD:PUBLISH
X-WR-CALNAME:sentmenat@sentmenat.cat
X-WR-TIMEZONE:Europe/Madrid
DESCRIPTION:Al menú principal del web de l'Ajuntament s'ha creat un apartat en què trobaràs una guia i tota la informació necessària.

URI:https://www.sentmenat.cat/actualitat/noticies/ja-tens-disponible-tota-la-informacio-del-porta-a-porta.html
CLASS:PUBLIC
END:VEVENT
END:VCALENDAR
