BEGIN:VCALENDAR
VERSION:2.0
CALSCALE:GREGORIAN
PRODID:-//Diputació de Barcelona//DibaCMS//EN
BEGIN:VEVENT
UID:18883
DTSTAMP:20260424T192212
DTSTART:20210731T170000
DTEND:20210731T183000
SUMMARY:Cinema d'estrena 
LOCATION:Anselm Clavé, 46-48 08181 Sentmenat
METHOD:PUBLISH
X-WR-CALNAME:sentmenat@sentmenat.cat
X-WR-TIMEZONE:Europe/Madrid
DESCRIPTION:
URI:https://www.sentmenat.cat/actualitat/agenda/18883-cinema-destrena-.html
CLASS:PUBLIC
END:VEVENT
END:VCALENDAR
