BEGIN:VCALENDAR
VERSION:2.0
CALSCALE:GREGORIAN
PRODID:-//Diputació de Barcelona//DibaCMS//EN
BEGIN:VEVENT
UID:18602
DTSTAMP:20260420T031829
DTSTART:20210202T000000
DTEND:20220202T000000
SUMMARY:Consulta els resultats i l’infografia del passat ple ordinari del 28 de gener
LOCATION:
METHOD:PUBLISH
X-WR-CALNAME:sentmenat@sentmenat.cat
X-WR-TIMEZONE:Europe/Madrid
DESCRIPTION:El passat dijous 28 de gener a les 19:30h es va celebrar el  Ple Ordinari (PL/2021/03) de forma telemàtica degut a les mesures de seguretat i higiene pel context sanitari per la COVID-19. El Ple va estar convocat per l’alcalde Marc Verneda Urbano, qui presideix l'òrgan amb la presència dels regidors i regidores que formen el consistori i va ser retransmès per Ràdio Sentmenat.

URI:https://www.sentmenat.cat/1-ajuntament/organs-de-govern/el-ple/resultats-dels-plens/consulta-els-resultats-i-linfografia-del-passat-ple-ordinari-del-28-de-gener.html
CLASS:PUBLIC
END:VEVENT
END:VCALENDAR
