BEGIN:VCALENDAR
VERSION:2.0
CALSCALE:GREGORIAN
PRODID:-//Diputació de Barcelona//DibaCMS//EN
BEGIN:VEVENT
UID:18599
DTSTAMP:20260421T134937
DTSTART:20210205T100000
DTEND:20210205T120000
SUMMARY:Segona sessió procés participatiu Sentmenat
LOCATION:
METHOD:PUBLISH
X-WR-CALNAME:sentmenat@sentmenat.cat
X-WR-TIMEZONE:Europe/Madrid
DESCRIPTION:
URI:https://www.sentmenat.cat/1-ajuntament/alcaldessa/agenda-de-lalcaldessa/segona-sessio-proces-participatiu-sentmenat.html
CLASS:PUBLIC
END:VEVENT
END:VCALENDAR
