BEGIN:VCALENDAR
VERSION:2.0
CALSCALE:GREGORIAN
PRODID:-//Diputació de Barcelona//DibaCMS//EN
BEGIN:VEVENT
UID:18514
DTSTAMP:20260423T173822
DTSTART:20201215T000000
DTEND:20211215T000000
SUMMARY:Arriba a l’Espai Jove la Tèxtil l’exposició Tres Voltes Rebel d’Ame Soler
LOCATION:
METHOD:PUBLISH
X-WR-CALNAME:sentmenat@sentmenat.cat
X-WR-TIMEZONE:Europe/Madrid
DESCRIPTION:Des de dimarts 15 de desembre fins al dimecres 30 de desembre hi haurà instal·lada l'exposició Tres Voltes Rebel a l'Espai Jove la Tèxtil. Tres Voltes Rebel és un projecte reivindicatiu de caràcter feminista i de denúncia social de la il·lustradora, i autora dels llibres Som les netes de les bruixes que no vau poder cremar i Akelarre, Ame Soler.

URI:https://www.sentmenat.cat/actualitat/noticies/arriba-a-lespai-jove-la-textil-lexposicio-tres-voltes-rebel-dame-soler.html
CLASS:PUBLIC
END:VEVENT
END:VCALENDAR
