BEGIN:VCALENDAR
VERSION:2.0
CALSCALE:GREGORIAN
PRODID:-//Diputació de Barcelona//DibaCMS//EN
BEGIN:VEVENT
UID:18251
DTSTAMP:20260424T174742
DTSTART:20200723T110000
DTEND:20200723T130000
SUMMARY:Consell d’Alcaldies del Vallès Occidental
LOCATION:Reunió telemàtica 
METHOD:PUBLISH
X-WR-CALNAME:sentmenat@sentmenat.cat
X-WR-TIMEZONE:Europe/Madrid
DESCRIPTION:
URI:https://www.sentmenat.cat/1-ajuntament/alcaldessa/agenda-de-lalcaldessa/consell-dalcaldies-del-valles-occidental.html
CLASS:PUBLIC
END:VEVENT
END:VCALENDAR
