BEGIN:VCALENDAR
VERSION:2.0
CALSCALE:GREGORIAN
PRODID:-//Diputació de Barcelona//DibaCMS//EN
BEGIN:VEVENT
UID:18169
DTSTAMP:20260422T181601
DTSTART:20200709T000000
DTEND:20210709T000000
SUMMARY:L’Ajuntament de Sentmenat es reuneix amb la Generalitat per avançar el projecte de la variant
LOCATION:
METHOD:PUBLISH
X-WR-CALNAME:sentmenat@sentmenat.cat
X-WR-TIMEZONE:Europe/Madrid
DESCRIPTION:El passat divendres 3 de juliol l'Ajuntament es va reunir amb el sr. Xavier Flores, director general d'Infraestructures de Mobilitat de la Generalitat de Catalunya per tractar el futur projecte de la variant que unirà les vies comarcals de Sentmenat amb Polinyà, Caldes de Montbui i Castellar del Vallès.

URI:https://www.sentmenat.cat/actualitat/noticies/lajuntament-de-sentmenat-es-reuneix-amb-la-generalitat-per-avancar-el-projecte-de-la-variant.html
CLASS:PUBLIC
END:VEVENT
END:VCALENDAR
