BEGIN:VCALENDAR
VERSION:2.0
CALSCALE:GREGORIAN
PRODID:-//Diputació de Barcelona//DibaCMS//EN
BEGIN:VEVENT
UID:18123
DTSTAMP:20260425T171604
DTSTART:20200714T110000
DTEND:20200714T130000
SUMMARY:Certamen Atenea
LOCATION:Jardins de Cal Milionari 
METHOD:PUBLISH
X-WR-CALNAME:sentmenat@sentmenat.cat
X-WR-TIMEZONE:Europe/Madrid
DESCRIPTION:
URI:https://www.sentmenat.cat/1-ajuntament/alcaldessa/agenda-de-lalcaldessa/18123-certamen-atenea.html
CLASS:PUBLIC
END:VEVENT
END:VCALENDAR
