BEGIN:VCALENDAR
VERSION:2.0
CALSCALE:GREGORIAN
PRODID:-//Diputació de Barcelona//DibaCMS//EN
BEGIN:VEVENT
UID:18088
DTSTAMP:20260425T003845
DTSTART:20200717T213000
DTEND:20200717T233000
SUMMARY:Campeones
LOCATION:Gaudi 1 08181 Sentmenat
METHOD:PUBLISH
X-WR-CALNAME:sentmenat@sentmenat.cat
X-WR-TIMEZONE:Europe/Madrid
DESCRIPTION:Divendres 17 de juliol

Campeones

A les 21.30 h - als jardins de Cal Milionari.

Cinema comèdia.

URI:https://www.sentmenat.cat/actualitat/agenda/campeones.html
CLASS:PUBLIC
END:VEVENT
END:VCALENDAR
