BEGIN:VCALENDAR
VERSION:2.0
CALSCALE:GREGORIAN
PRODID:-//Diputació de Barcelona//DibaCMS//EN
BEGIN:VEVENT
UID:18046
DTSTAMP:20260420T030735
DTSTART:20200618T000000
DTEND:20210618T000000
SUMMARY:Sentmenat entra a la Fase 3 de desescalada
LOCATION:
METHOD:PUBLISH
X-WR-CALNAME:sentmenat@sentmenat.cat
X-WR-TIMEZONE:Europe/Madrid
DESCRIPTION:A partir d'aquest dijous 18 de juny, Sentmenat i la Regió Sanitària de Barcelona entra a la Fase 3 de desescalada. Consulta les seves novetats.

URI:https://www.sentmenat.cat/actualitat/noticies/sentmenat-entra-a-la-fase-3-de-desescalada.html
CLASS:PUBLIC
END:VEVENT
END:VCALENDAR
