BEGIN:VCALENDAR
VERSION:2.0
CALSCALE:GREGORIAN
PRODID:-//Diputació de Barcelona//DibaCMS//EN
BEGIN:VEVENT
UID:17999
DTSTAMP:20260419T165031
DTSTART:20200605T000000
DTEND:20210605T000000
SUMMARY:Oberta la convocatòria per sol·licitar l'Ingrés Mínim Vital a partir del 15 de juny
LOCATION:
METHOD:PUBLISH
X-WR-CALNAME:sentmenat@sentmenat.cat
X-WR-TIMEZONE:Europe/Madrid
DESCRIPTION:Constarà d’una prestació per les persones en situació de vulnerabilitat d’entre 462 i 1.015 euros, segons les condicions de la persona, i que es pagarà mensualment i que es pagarà de forma particular al representant de cada unitat de convivència.  

URI:https://www.sentmenat.cat/actualitat/noticies/oberta-la-convocatoria-per-sollicitar-lingres-minim-vital-a-partir-del-15-de-juny.html
CLASS:PUBLIC
END:VEVENT
END:VCALENDAR
