BEGIN:VCALENDAR
VERSION:2.0
CALSCALE:GREGORIAN
PRODID:-//Diputació de Barcelona//DibaCMS//EN
BEGIN:VEVENT
UID:17955
DTSTAMP:20260422T182456
DTSTART:20200511T000000
DTEND:20210511T000000
SUMMARY:Com es podrà fer la preinscripció escolar?
LOCATION:
METHOD:PUBLISH
X-WR-CALNAME:sentmenat@sentmenat.cat
X-WR-TIMEZONE:Europe/Madrid
DESCRIPTION:L'Escola Can Sorts ha preparat un document explicatiu sobre com dur-la a terme del 13 al 22 de maig.

URI:https://www.sentmenat.cat/actualitat/noticies/com-es-podra-fer-la-preinscripcio-escolar.html
CLASS:PUBLIC
END:VEVENT
END:VCALENDAR
