BEGIN:VCALENDAR
VERSION:2.0
CALSCALE:GREGORIAN
PRODID:-//Diputació de Barcelona//DibaCMS//EN
BEGIN:VEVENT
UID:17933
DTSTAMP:20260426T030348
DTSTART:20200504T000000
DTEND:20210504T000000
SUMMARY:El dijous 7 de maig se celebrarà un Ple extraordinari
LOCATION:
METHOD:PUBLISH
X-WR-CALNAME:sentmenat@sentmenat.cat
X-WR-TIMEZONE:Europe/Madrid
DESCRIPTION:La sessió es farà telemàticament a partir de les 5 de la tarda i comptarà amb 7 punts a l'ordre del dia.

URI:https://www.sentmenat.cat/1-ajuntament/organs-de-govern/el-ple/resultats-dels-plens/el-dijous-7-de-maig-se-celebrara-un-ple-extraordinari.html
CLASS:PUBLIC
END:VEVENT
END:VCALENDAR
