BEGIN:VCALENDAR
VERSION:2.0
CALSCALE:GREGORIAN
PRODID:-//Diputació de Barcelona//DibaCMS//EN
BEGIN:VEVENT
UID:17930
DTSTAMP:20260420T155404
DTSTART:20200502T000000
DTEND:20210502T000000
SUMMARY:Consell Comarcal engega Grups d’Ajuda Mútua per a les persones que estan vivint situacions de dol sense comiat a causa de la Covid-19
LOCATION:
METHOD:PUBLISH
X-WR-CALNAME:sentmenat@sentmenat.cat
X-WR-TIMEZONE:Europe/Madrid
DESCRIPTION:Tant des del Servei d’Informació i suport emocional a la ciutadania engegat pel Consell Comarcal, com des de l’equip de professionals de Serveis Socials s’ha detectat una necessitat especial d’atenció al dol per a moltes persones que estan patint pèrdues de familiars i amistats per la Covid-19.

URI:https://www.sentmenat.cat/actualitat/noticies/consell-comarcal-engega-grups-dajuda-mutua-per-a-les-persones-que-estan-vivint-situacions-de-dol-sense-comiat-a-causa-de-la-covid-19.html
CLASS:PUBLIC
END:VEVENT
END:VCALENDAR
