BEGIN:VCALENDAR
VERSION:2.0
CALSCALE:GREGORIAN
PRODID:-//Diputació de Barcelona//DibaCMS//EN
BEGIN:VEVENT
UID:17867
DTSTAMP:20260424T190549
DTSTART:20200330T000000
DTEND:20210330T000000
SUMMARY:L’Ajuntament habilita un apartat al web amb tota la informació referent al COVID-19
LOCATION:
METHOD:PUBLISH
X-WR-CALNAME:sentmenat@sentmenat.cat
X-WR-TIMEZONE:Europe/Madrid
DESCRIPTION:La regidoria de Comunicació ha habilitat un apartat al web per facilitar la cerca de continguts relatius al COVID-19, com recomanacions, telèfons de contacte, notícies, etc.

URI:https://www.sentmenat.cat/destacat/covid-19-/ultimes-noticies/lajuntament-habilita-un-apartat-al-web-amb-tota-la-informacio-referent-al-covid-19.html
CLASS:PUBLIC
END:VEVENT
END:VCALENDAR
