BEGIN:VCALENDAR
VERSION:2.0
CALSCALE:GREGORIAN
PRODID:-//Diputació de Barcelona//DibaCMS//EN
BEGIN:VEVENT
UID:17648
DTSTAMP:20260421T231153
DTSTART:20200227T190000
DTEND:20210226T000000
SUMMARY:El Conseller d’Educació es reuneix amb l’Ajuntament per abordar la situació de l’educació a Sentmenat
LOCATION:
METHOD:PUBLISH
X-WR-CALNAME:sentmenat@sentmenat.cat
X-WR-TIMEZONE:Europe/Madrid
DESCRIPTION:El conseller d'Educació, Josep Bargalló, acompanyat del delegat de Govern de la Generalitat a Barcelona, Juli Fernàndez i el director dels Serveis Territorials del Departament, Jesús Viñas, s’han reunit aquest matí amb l’Alcalde, Marc Verneda, el regidor d’Educació, Jaume Carbonell i la tècnica d’educació, Mia Martí, a l’Ajuntament de Sentmenat. Posteriorment han visitat l’Escola Can Sorts on s’ha mantingut una reunió amb la direcció de l’escola i per últim han visitat l’Institut de Sentmenat. 

URI:https://www.sentmenat.cat/actualitat/noticies/el-conseller-deducacio-es-reuneix-amb-lajuntament-per-abordar-la-situacio-de-leducacio-a-sentmenat.html
CLASS:PUBLIC
END:VEVENT
END:VCALENDAR
