BEGIN:VCALENDAR
VERSION:2.0
CALSCALE:GREGORIAN
PRODID:-//Diputació de Barcelona//DibaCMS//EN
BEGIN:VEVENT
UID:17628
DTSTAMP:20260425T153221
DTSTART:20200219T000000
DTEND:20210218T000000
SUMMARY:Fundació Humana lliura 25 bons d’ajuda a Sentmenat
LOCATION:
METHOD:PUBLISH
X-WR-CALNAME:sentmenat@sentmenat.cat
X-WR-TIMEZONE:Europe/Madrid
DESCRIPTION:25 vals bescanviables per roba, que l’Ajuntament de Sentmenat distribuirà entre les persones amb pocs recursos econòmics del municipi. Cada val està valorat en 30 euros i podrà ser bescanviat a les botigues de la Humana de Barcelona. 

URI:https://www.sentmenat.cat/actualitat/noticies/fundacio-humana-lliura-25-bons-dajuda-a-sentmenat.html
CLASS:PUBLIC
END:VEVENT
END:VCALENDAR
