BEGIN:VCALENDAR
VERSION:2.0
CALSCALE:GREGORIAN
PRODID:-//Diputació de Barcelona//DibaCMS//EN
BEGIN:VEVENT
UID:17556
DTSTAMP:20260421T094452
DTSTART:20200130T093000
DTEND:20200130T110000
SUMMARY:reunió treball telefonia mòbil
LOCATION:Sala d ePlens de l'ajuntament 
METHOD:PUBLISH
X-WR-CALNAME:sentmenat@sentmenat.cat
X-WR-TIMEZONE:Europe/Madrid
DESCRIPTION:
URI:https://www.sentmenat.cat/1-ajuntament/alcaldessa/agenda-de-lalcaldessa/reunio-treball-telefonia-mobil.html
CLASS:PUBLIC
END:VEVENT
END:VCALENDAR
