BEGIN:VCALENDAR
VERSION:2.0
CALSCALE:GREGORIAN
PRODID:-//Diputació de Barcelona//DibaCMS//EN
BEGIN:VEVENT
UID:17382
DTSTAMP:20260425T190206
DTSTART:20191219T093000
DTEND:20191219T110000
SUMMARY:visita tècnica muntatge pesebre
LOCATION:Plaça Lluis Companys 
METHOD:PUBLISH
X-WR-CALNAME:sentmenat@sentmenat.cat
X-WR-TIMEZONE:Europe/Madrid
DESCRIPTION:
URI:https://www.sentmenat.cat/1-ajuntament/alcaldessa/agenda-de-lalcaldessa/visita-tecnica-muntatge-pesebre.html
CLASS:PUBLIC
END:VEVENT
END:VCALENDAR
