BEGIN:VCALENDAR
VERSION:2.0
CALSCALE:GREGORIAN
PRODID:-//Diputació de Barcelona//DibaCMS//EN
BEGIN:VEVENT
UID:17376
DTSTAMP:20260423T092557
DTSTART:20191219T160000
DTEND:20191219T180000
SUMMARY:Ple Municipal Extraordinari
LOCATION:Saló de Plens
Plaça de la Vila 1 
METHOD:PUBLISH
X-WR-CALNAME:sentmenat@sentmenat.cat
X-WR-TIMEZONE:Europe/Madrid
DESCRIPTION:Motiu: Aprovar el pressupost municipal 2020 i nomenar Jutge/ssa de Pau Titular

URI:https://www.sentmenat.cat/1-ajuntament/alcaldessa/agenda-de-lalcaldessa/ple-municipal-extraordinari.html
CLASS:PUBLIC
END:VEVENT
END:VCALENDAR
