BEGIN:VCALENDAR
VERSION:2.0
CALSCALE:GREGORIAN
PRODID:-//Diputació de Barcelona//DibaCMS//EN
BEGIN:VEVENT
UID:17363
DTSTAMP:20260422T114238
DTSTART:20191212T000000
DTEND:20201211T000000
SUMMARY:Protecció Civil activa l’alerta pel pla Ventcat per l’episodi de fort vent que divendres afectarà gran part de Catalunya
LOCATION:
METHOD:PUBLISH
X-WR-CALNAME:sentmenat@sentmenat.cat
X-WR-TIMEZONE:Europe/Madrid
DESCRIPTION:Protecció Civil activa l’alerta pel pla Ventcat per l’episodi de fort vent que divendres afectarà gran part de Catalunya

Protecció Civil de la Generalitat ha activat l’alerta del pla Ventcat ateses les prediccions del Servei Meteorològic de Catalunya (SMC) de fort vent des de dijous fins el proper dissabte 

URI:https://www.sentmenat.cat/actualitat/noticies/proteccio-civil-activa-lalerta-pel-pla-ventcat-per-lepisodi-de-fort-vent-que-divendres-afectara-gran-part-de-catalunya.html
CLASS:PUBLIC
END:VEVENT
END:VCALENDAR
