BEGIN:VCALENDAR
VERSION:2.0
CALSCALE:GREGORIAN
PRODID:-//Diputació de Barcelona//DibaCMS//EN
BEGIN:VEVENT
UID:17333
DTSTAMP:20260420T111933
DTSTART:20191205T115500
DTEND:20201204T000000
SUMMARY:Licitació oberta per les obres a la Plaça Lluís Companys
LOCATION:
METHOD:PUBLISH
X-WR-CALNAME:sentmenat@sentmenat.cat
X-WR-TIMEZONE:Europe/Madrid
DESCRIPTION:L'Ajuntament de Sentmenat obra el termini de presentació d'ofertes per les obres de la Plaça Lluís Companys. 

URI:https://www.sentmenat.cat/actualitat/noticies/licitacio-oberta-per-les-obres-a-la-placa-lluis-companys.html
CLASS:PUBLIC
END:VEVENT
END:VCALENDAR
