BEGIN:VCALENDAR
VERSION:2.0
CALSCALE:GREGORIAN
PRODID:-//Diputació de Barcelona//DibaCMS//EN
BEGIN:VEVENT
UID:17280
DTSTAMP:20260422T182220
DTSTART:20191222T183000
DTEND:20191222T203000
SUMMARY:Concert de Nadal del COR JOVE
LOCATION:Teatre del Coro 
METHOD:PUBLISH
X-WR-CALNAME:sentmenat@sentmenat.cat
X-WR-TIMEZONE:Europe/Madrid
DESCRIPTION:Concert de Nadal del COR JOVE

18.30 h – Teatre del Coro

URI:https://www.sentmenat.cat/actualitat/agenda/17280-concert-de-nadal-del-cor-jove.html
CLASS:PUBLIC
END:VEVENT
END:VCALENDAR
