BEGIN:VCALENDAR
VERSION:2.0
CALSCALE:GREGORIAN
PRODID:-//Diputació de Barcelona//DibaCMS//EN
BEGIN:VEVENT
UID:17228
DTSTAMP:20260419T155352
DTSTART:20191017T000000
DTEND:20201016T000000
SUMMARY:Afectacions de la vaga general del 18 d'octubre a Sentmenat
LOCATION:
METHOD:PUBLISH
X-WR-CALNAME:sentmenat@sentmenat.cat
X-WR-TIMEZONE:Europe/Madrid
DESCRIPTION:Amb motiu de la vaga general convocada per diverses entitats i sindicats durant la jornada de demà divendres 18 d'octubre, diferents equipaments i serveis del municipi es veuran afectats.

URI:https://www.sentmenat.cat/actualitat/noticies/afectacions-de-la-vaga-general-del-18-doctubre-a-sentmenat.html
CLASS:PUBLIC
END:VEVENT
END:VCALENDAR
