BEGIN:VCALENDAR
VERSION:2.0
CALSCALE:GREGORIAN
PRODID:-//Diputació de Barcelona//DibaCMS//EN
BEGIN:VEVENT
UID:16805
DTSTAMP:20260423T113430
DTSTART:20190223T000000
DTEND:20200223T000000
SUMMARY:L’Ajuntament de Sentmenat presideix l’Associació de Municipis de l’Eix de la Riera de Caldes
LOCATION:
METHOD:PUBLISH
X-WR-CALNAME:sentmenat@sentmenat.cat
X-WR-TIMEZONE:Europe/Madrid
DESCRIPTION:Des del proppassat divendres 15 de febrer l’Ajuntament de Sentmenat assumeix la presidència de l’Associació de Municipis de la riera de Caldes (AMERC).

URI:https://www.sentmenat.cat/actualitat/noticies/lajuntament-de-sentmenat-presideix-lassociacio-de-municipis-de-leix-de-la-riera-de-caldes.html
CLASS:PUBLIC
END:VEVENT
END:VCALENDAR
