BEGIN:VCALENDAR
VERSION:2.0
CALSCALE:GREGORIAN
PRODID:-//Diputació de Barcelona//DibaCMS//EN
BEGIN:VEVENT
UID:14881
DTSTAMP:20260424T063618
DTSTART:20041209T000000
DTEND:20091209T000000
SUMMARY:Celebració de la Fira de Santa Llúcia
LOCATION:
METHOD:PUBLISH
X-WR-CALNAME:sentmenat@sentmenat.cat
X-WR-TIMEZONE:Europe/Madrid
DESCRIPTION:El diumenge 12 de desembre

URI:https://www.sentmenat.cat/actualitat/noticies/celebracio-de-la-fira-de-santa-llucia.html
CLASS:PUBLIC
END:VEVENT
END:VCALENDAR
