BEGIN:VCALENDAR
VERSION:2.0
CALSCALE:GREGORIAN
PRODID:-//Diputació de Barcelona//DibaCMS//EN
BEGIN:VEVENT
UID:14877
DTSTAMP:20260421T183922
DTSTART:20041224T000000
DTEND:20091224T000000
SUMMARY:Els alumnes del Taller Ocupacional Parcs Urbans de Sentmenat feliciten el Nadal a l'Ajuntament
LOCATION:
METHOD:PUBLISH
X-WR-CALNAME:sentmenat@sentmenat.cat
X-WR-TIMEZONE:Europe/Madrid
DESCRIPTION:
URI:https://www.sentmenat.cat/actualitat/noticies/els-alumnes-del-taller-ocupacional-parcs-urbans-de-sentmenat-feliciten-el-nadal-a-lajuntament.html
CLASS:PUBLIC
END:VEVENT
END:VCALENDAR
