BEGIN:VCALENDAR
VERSION:2.0
CALSCALE:GREGORIAN
PRODID:-//Diputació de Barcelona//DibaCMS//EN
BEGIN:VEVENT
UID:13268
DTSTAMP:20260421T180810
DTSTART:20120315T000000
DTEND:20120322T000000
SUMMARY:Moltes felicitats, Pilar!
LOCATION:
METHOD:PUBLISH
X-WR-CALNAME:sentmenat@sentmenat.cat
X-WR-TIMEZONE:Europe/Madrid
DESCRIPTION:La sentmenatenca Pilar Gaja Guixà ha complert 100 anys.
URI:https://www.sentmenat.cat/actualitat/noticies/moltes-felicitats-pilar.html
CLASS:PUBLIC
END:VEVENT
END:VCALENDAR
